BEGIN:VCALENDAR
VERSION:2.0
PRODID:-//eventon.com NONSGML v1.0//EN
CALSCALE:GREGORIAN
METHOD:PUBLISH
BEGIN:VEVENT
UID:69e62979d99c3
DTSTAMP:20260420T132617Z
DTSTART:20260518T163000Z
DTEND:20260518T173000Z
LOCATION:Gleis 5\,  Restaurant Bahnhof Bahnhofstrasse 10\,  6102 Malters
SUMMARY:Malters singt- Offenes singen
DESCRIPTION:Wir singen einfache Lieder\,  meist einstimmig\,  querbeet von 
 Mundart über Evergreens\,  bis Popsongs; einfach\,  was gefällt. Hier geh
 t es zum Flyer.\nhttps://msrm.ch/veranstaltungen/malters-singt-offenes-sing
 en-5/
URL:https://msrm.ch/veranstaltungen/malters-singt-offenes-singen-5/
END:VEVENT
END:VCALENDAR