BEGIN:VCALENDAR
VERSION:2.0
PRODID:-//eventon.com NONSGML v1.0//EN
CALSCALE:GREGORIAN
METHOD:PUBLISH
BEGIN:VEVENT
UID:69eb28dc29b57
DTSTAMP:20260424T082500Z
DTSTART:20260824T163000Z
DTEND:20260824T173000Z
LOCATION:Gleis 5\,  Restaurant Bahnhof Bahnhofstrasse 10\,  6102 Malters
SUMMARY:Malters singt- Offenes singen
DESCRIPTION:Wir singen einfache Lieder\,  meist einstimmig\,  querbeet von 
 Mundart über Evergreens\,  bis Popsongs; einfach\,  was gefällt. Hier geh
 t es zum Flyer.\nhttps://msrm.ch/veranstaltungen/malters-singt-offenes-sing
 en-6/
URL:https://msrm.ch/veranstaltungen/malters-singt-offenes-singen-6/
END:VEVENT
END:VCALENDAR