BEGIN:VCALENDAR
VERSION:2.0
PRODID:-//eventon.com NONSGML v1.0//EN
CALSCALE:GREGORIAN
METHOD:PUBLISH
BEGIN:VEVENT
UID:69e656121f1a3
DTSTAMP:20260420T163634Z
DTSTART:20261102T173000Z
DTEND:20261102T183000Z
LOCATION:Gleis 5\,  Restaurant Bahnhof Bahnhofstrasse 10\,  6102 Malters
SUMMARY:Malters singt- Offenes singen
DESCRIPTION:Wir singen einfache Lieder\,  meist einstimmig\,  querbeet von 
 Mundart über Evergreens\,  bis Popsongs; einfach\,  was gefällt. Hier geh
 t es zum Flyer.\nhttps://msrm.ch/veranstaltungen/malters-singt-offenes-sing
 en-9/
URL:https://msrm.ch/veranstaltungen/malters-singt-offenes-singen-9/
END:VEVENT
END:VCALENDAR