BEGIN:VCALENDAR
VERSION:2.0
PRODID:-//eventon.com NONSGML v1.0//EN
CALSCALE:GREGORIAN
METHOD:PUBLISH
BEGIN:VEVENT
UID:69e68a045800b
DTSTAMP:20260420T201812Z
DTSTART:20261214T173000Z
DTEND:20261214T183000Z
LOCATION:Gleis 5\,  Restaurant Bahnhof Bahnhofstrasse 10\,  6102 Malters
SUMMARY:Malters singt- Offenes singen
DESCRIPTION:Wir singen einfache Lieder\,  meist einstimmig\,  querbeet von 
 Mundart über Evergreens\,  bis Popsongs; einfach\,  was gefällt. Hier geh
 t es zum Flyer.\nhttps://msrm.ch/veranstaltungen/malters-singt-offenes-sing
 en-10/
URL:https://msrm.ch/veranstaltungen/malters-singt-offenes-singen-10/
END:VEVENT
END:VCALENDAR